BEGIN:VCALENDAR
METHOD:PUBLISH
VERSION:2.0
CALSCALE:GREGORIAN
PRODID:-//NONSGML WPForms//NONSGML Sugar Calendar Feeds v3.11.0//EN
X-WR-CALNAME:PICKERING EASTER PARADE
X-WR-CALDESC:The Szpinner
X-WR-TIMEZONE:America/Toronto
BEGIN:VTIMEZONE
TZID:America/Toronto
BEGIN:STANDARD
TZOFFSETFROM:-0400
TZOFFSETTO:-0500
DTSTART:20251102T060000
TZNAME:EST
END:STANDARD
BEGIN:DAYLIGHT
TZOFFSETFROM:-0500
TZOFFSETTO:-0400
DTSTART:20260308T070000
TZNAME:EDT
END:DAYLIGHT
END:VTIMEZONE
BEGIN:VTIMEZONE
TZID:America/Toronto
BEGIN:STANDARD
TZOFFSETFROM:-0400
TZOFFSETTO:-0500
DTSTART:20251102T060000
TZNAME:EST
END:STANDARD
BEGIN:DAYLIGHT
TZOFFSETFROM:-0500
TZOFFSETTO:-0400
DTSTART:20260308T070000
TZNAME:EDT
END:DAYLIGHT
END:VTIMEZONE
BEGIN:VEVENT
SUMMARY:PICKERING EASTER PARADE
DESCRIPTION:Bay Ridges\nSaturday\, April 4\, 2026\nParade Start: 10:00 a
 m\nJoin the City of Pickering and the Royal Canadian Legion Branch 606 o
 n Saturday\, April 4\, to celebrate the annual Easter Parade in Bay Ridg
 es. Bring your Easter baskets and bonnets down to the parade route and p
 artake in a spectacular welcome to Spring!\nAfter the Easter Parade\, be
  sure to visit the Royal Canadian Legion Branch 606 (Rear Parking Lot\, 
 1555 Bayly Street\, Pickering) for their BBQ from 11:00 am - 12:00 pm.\n
 Enjoy a complimentary burger or hot dog\, games\, live entertainment\, a
 nd enter your bonnets\, bikes\, wagons\, doll prams\, etc. into the Legi
 on’s “Bonnet Contest” for a chance to win some exciting prizes.\n_
 _________
URL;VALUE=URI:https://www.szpin.ca/events/pickering-easter-parade/
UID:urn:uuid:a810cff9-15ed-4147-bdd8-7ded795098e1
STATUS:CONFIRMED
ORGANIZER:
DTSTAMP:20260421T103315Z
DTSTART;TZID=America/Toronto:20260404T100000
DTEND;TZID=America/Toronto:20260404T130000
END:VEVENT
END:VCALENDAR