BEGIN:VCALENDAR
METHOD:PUBLISH
VERSION:2.0
CALSCALE:GREGORIAN
PRODID:-//NONSGML WPForms//NONSGML Sugar Calendar Feeds v3.11.0//EN
X-WR-CALNAME:RONA'S SANTA'S VILLAGE for the kids
X-WR-CALDESC:The Szpinner
X-WR-TIMEZONE:America/Toronto
BEGIN:VTIMEZONE
TZID:America/Toronto
BEGIN:STANDARD
TZOFFSETFROM:-0400
TZOFFSETTO:-0500
DTSTART:20251102T060000
TZNAME:EST
END:STANDARD
END:VTIMEZONE
BEGIN:VTIMEZONE
TZID:America/Toronto
BEGIN:STANDARD
TZOFFSETFROM:-0400
TZOFFSETTO:-0500
DTSTART:20251102T060000
TZNAME:EST
END:STANDARD
END:VTIMEZONE
BEGIN:VEVENT
SUMMARY:RONA'S SANTA'S VILLAGE for the kids
DESCRIPTION:
URL;VALUE=URI:https://www.szpin.ca/events/ronas-santas-village-for-the-k
 ids/
UID:urn:uuid:c1aaafe5-4875-4150-9d2e-7eaec1c1b864
STATUS:CONFIRMED
ORGANIZER:
DTSTAMP:20260421T192151Z
DTSTART;TZID=America/Toronto:20251220T120000
DTEND;TZID=America/Toronto:20251221T200000
END:VEVENT
END:VCALENDAR