Workbook

Sheet 2026-27 Season Game Log
A1: TORONTO MAPLE LEAFS | 2026-27 SEASON GAME LOG
A2: How to update: in the game's row type W, L or OTL in column A, the goals in B and C, the goalie in G, and a note in I. Record, colours and totals update on their own.
A3: OTL = overtime or shootout loss (1 point). Schedule: 84 games, from hockeyschedules.net. Results through Oct 6, 2026.
A4: Result | B4: Leafs | C4: Opp | D4: Date | E4: Opponent | F4: H/A | G4: Goalie | H4: Record | I4: Notes
A5: L | B5: 2 | C5: 3 | D5: 46294 | E5: Montreal Canadiens | F5: Home | H5: =IF(A5="","",COUNTIF(A$5:A5,"W")&"-"&COUNTIF(A$5:A5,"L")&"-"&COUNTIF(A$5:A5,"OTL")) -> 0-1-0 | I5: Nylander scored both Leafs goals.
A6: W | B6: 2 | C6: 1 | D6: 46295 | E6: New York Islanders | F6: Home | H6: =IF(A6="","",COUNTIF(A$5:A6,"W")&"-"&COUNTIF(A$5:A6,"L")&"-"&COUNTIF(A$5:A6,"OTL")) -> 1-1-0 | I6: Cowan power-play goal was the winner.
A7: L | B7: 2 | C7: 3 | D7: 46298 | E7: Ottawa Senators | F7: Home | G7: Sergei Bobrovsky | H7: =IF(A7="","",COUNTIF(A$5:A7,"W")&"-"&COUNTIF(A$5:A7,"L")&"-"&COUNTIF(A$5:A7,"OTL")) -> 1-2-0 | I7: Matthews and Marchenko scored.
A8: W | B8: 5 | C8: 4 | D8: 46301 | E8: Nashville Predators | F8: Home | G8: Anthony Stolarz | H8: =IF(A8="","",COUNTIF(A$5:A8,"W")&"-"&COUNTIF(A$5:A8,"L")&"-"&COUNTIF(A$5:A8,"OTL")) -> 2-2-0 | I8: Won in overtime. McKenna a goal and an assist.
A9: ="W"&COUNTIF(A5:A8,"W")&"/L"&COUNTIF(A5:A8,"L")&IF(COUNTIF(A5:A8,"OTL")>0,"/OTL"&COUNTIF(A5:A8,"OTL"),"") -> W2/L2 | B9: =SUM(B5:B8) -> 11 | C9: =SUM(C5:C8) -> 11 | E9: ="TOTALS after "&(COUNTIF(A5:A8,"W")+COUNTIF(A5:A8,"L")+COUNTIF(A5:A8,"OTL"))&" games" -> TOTALS after 4 games | H9: =IF((COUNTIF(A5:A8,"W")+COUNTIF(A5:A8,"L")+COUNTIF(A5:A8,"OTL"))=0,"",TEXT(COUNTIF(A5:A8,"W")/(COUNTIF(A5:A8,"W")+COUNTIF(A5:A8,"L")+COUNTIF(A5:A8,"OTL")),"0%")&" wins") -> 50% wins
D10: 46303 | E10: Vegas Golden Knights | F10: Away | H10: =IF(A10="","",COUNTIF(A$5:A10,"W")&"-"&COUNTIF(A$5:A10,"L")&"-"&COUNTIF(A$5:A10,"OTL")) | I10: Scheduled - 10:00 PM ET
D11: 46305 | E11: Colorado Avalanche | F11: Away | H11: =IF(A11="","",COUNTIF(A$5:A11,"W")&"-"&COUNTIF(A$5:A11,"L")&"-"&COUNTIF(A$5:A11,"OTL")) | I11: Scheduled - 7:00 PM ET
D12: 46308 | E12: Utah Mammoth | F12: Away | H12: =IF(A12="","",COUNTIF(A$5:A12,"W")&"-"&COUNTIF(A$5:A12,"L")&"-"&COUNTIF(A$5:A12,"OTL")) | I12: Scheduled - 9:00 PM ET
D13: 46310 | E13: Buffalo Sabres | F13: Home | H13: =IF(A13="","",COUNTIF(A$5:A13,"W")&"-"&COUNTIF(A$5:A13,"L")&"-"&COUNTIF(A$5:A13,"OTL")) | I13: Scheduled - 7:00 PM ET
D14: 46312 | E14: New York Islanders | F14: Home | H14: =IF(A14="","",COUNTIF(A$5:A14,"W")&"-"&COUNTIF(A$5:A14,"L")&"-"&COUNTIF(A$5:A14,"OTL")) | I14: Scheduled - 7:00 PM ET
D15: 46314 | E15: San Jose Sharks | F15: Home | H15: =IF(A15="","",COUNTIF(A$5:A15,"W")&"-"&COUNTIF(A$5:A15,"L")&"-"&COUNTIF(A$5:A15,"OTL")) | I15: Scheduled - 7:30 PM ET
D16: 46315 | E16: Columbus Blue Jackets | F16: Away | H16: =IF(A16="","",COUNTIF(A$5:A16,"W")&"-"&COUNTIF(A$5:A16,"L")&"-"&COUNTIF(A$5:A16,"OTL")) | I16: Scheduled - 7:00 PM ET
D17: 46317 | E17: New York Rangers | F17: Home | H17: =IF(A17="","",COUNTIF(A$5:A17,"W")&"-"&COUNTIF(A$5:A17,"L")&"-"&COUNTIF(A$5:A17,"OTL")) | I17: Scheduled - 7:00 PM ET
D18: 46319 | E18: Edmonton Oilers | F18: Away | H18: =IF(A18="","",COUNTIF(A$5:A18,"W")&"-"&COUNTIF(A$5:A18,"L")&"-"&COUNTIF(A$5:A18,"OTL")) | I18: Scheduled - 7:00 PM ET
D19: 46321 | E19: Calgary Flames | F19: Away | H19: =IF(A19="","",COUNTIF(A$5:A19,"W")&"-"&COUNTIF(A$5:A19,"L")&"-"&COUNTIF(A$5:A19,"OTL")) | I19: Scheduled - 8:30 PM ET
D20: 46323 | E20: Seattle Kraken | F20: Away | H20: =IF(A20="","",COUNTIF(A$5:A20,"W")&"-"&COUNTIF(A$5:A20,"L")&"-"&COUNTIF(A$5:A20,"OTL")) | I20: Scheduled - 10:00 PM ET
D21: 46326 | E21: Vancouver Canucks | F21: Away | H21: =IF(A21="","",COUNTIF(A$5:A21,"W")&"-"&COUNTIF(A$5:A21,"L")&"-"&COUNTIF(A$5:A21,"OTL")) | I21: Scheduled - 7:00 PM ET
... D89: 46487 | E89: New York Rangers | F89: Away | H89: =IF(A89="","",COUNTIF(A$5:A89,"W")&"-"&COUNTIF(A$5:A89,"L")&"-"&COUNTIF(A$5:A89,"OTL")) | I89: Scheduled - 7:00 PM ET
A91: SEASON SUMMARY
A92: Games played | E92: =(COUNTIF(A$5:A$89,"W")+COUNTIF(A$5:A$89,"L")+COUNTIF(A$5:A$89,"OTL")) -> 4
A93: Record (W-L-OTL) | E93: =COUNTIF(A$5:A$89,"W")&"-"&COUNTIF(A$5:A$89,"L")&"-"&COUNTIF(A$5:A$89,"OTL") -> 2-2-0
A94: Points | E94: =2*COUNTIF(A$5:A$89,"W")+COUNTIF(A$5:A$89,"OTL") -> 4
A95: Points % | E95: =IF((COUNTIF(A$5:A$89,"W")+COUNTIF(A$5:A$89,"L")+COUNTIF(A$5:A$89,"OTL"))=0,0,(2*COUNTIF(A$5:A$89,"W")+COUNTIF(A$5:A$89,"OTL"))/(2*(COUNTIF(A$5:A$89,"W")+COUNTIF(A$5:A$89,"L")+COUNTIF(A$5:A$89,"OTL")))) -> 0.5
A96: Goals for | E96: =SUMIFS(B$5:B$89,D$5:D$89,">0") -> 11
A97: Goals against | E97: =SUMIFS(C$5:C$89,D$5:D$89,">0") -> 11
A98: Goal difference | E98: =SUMIFS(B$5:B$89,D$5:D$89,">0")-SUMIFS(C$5:C$89,D$5:D$89,">0") -> 0
A99: Home record | E99: =COUNTIFS(A$5:A$89,"W",F$5:F$89,"Home")&"-"&COUNTIFS(A$5:A$89,"L",F$5:F$89,"Home")&"-"&COUNTIFS(A$5:A$89,"OTL",F$5:F$89,"Home") -> 2-2-0
A100: Away record | E100: =COUNTIFS(A$5:A$89,"W",F$5:F$89,"Away")&"-"&COUNTIFS(A$5:A$89,"L",F$5:F$89,"Away")&"-"&COUNTIFS(A$5:A$89,"OTL",F$5:F$89,"Away") -> 0-0-0
A101: Games remaining | E101: =84-(COUNTIF(A$5:A$89,"W")+COUNTIF(A$5:A$89,"L")+COUNTIF(A$5:A$89,"OTL")) -> 80

Sheet Goalie Tracker
A1: GOALIE TRACKER
A2: Counts come from the Goalie column of the game log. Type a new goalie's name in column A exactly as you type it in the log.
A3: Goalie | B3: Starts | C3: W | D3: L | E3: OTL | F3: Goals against
A4: Anthony Stolarz | B4: =IF($A4="","",COUNTIFS('2026-27 Season Game Log'!$G$5:$G$89,$A4,'2026-27 Season Game Log'!$A$5:$A$89,"<>")) -> 1 | C4: =IF($A4="","",COUNTIFS('2026-27 Season Game Log'!$G$5:$G$89,$A4,'2026-27 Season Game Log'!$A$5:$A$89,"W")) -> 1 | D4: =IF($A4="","",COUNTIFS('2026-27 Season Game Log'!$G$5:$G$89,$A4,'2026-27 Season Game Log'!$A$5:$A$89,"L")) -> 0 | E4: =IF($A4="","",COUNTIFS('2026-27 Season Game Log'!$G$5:$G$89,$A4,'2026-27 Season Game Log'!$A$5:$A$89,"OTL")) -> 0 | F4: =IF($A4="","",SUMIFS('2026-27 Season Game Log'!$C$5:$C$89,'2026-27 Season Game Log'!$G$5:$G$89,$A4)) -> 4
A5: Sergei Bobrovsky | B5: =IF($A5="","",COUNTIFS('2026-27 Season Game Log'!$G$5:$G$89,$A5,'2026-27 Season Game Log'!$A$5:$A$89,"<>")) -> 1 | C5: =IF($A5="","",COUNTIFS('2026-27 Season Game Log'!$G$5:$G$89,$A5,'2026-27 Season Game Log'!$A$5:$A$89,"W")) -> 0 | D5: =IF($A5="","",COUNTIFS('2026-27 Season Game Log'!$G$5:$G$89,$A5,'2026-27 Season Game Log'!$A$5:$A$89,"L")) -> 1 | E5: =IF($A5="","",COUNTIFS('2026-27 Season Game Log'!$G$5:$G$89,$A5,'2026-27 Season Game Log'!$A$5:$A$89,"OTL")) -> 0 | F5: =IF($A5="","",SUMIFS('2026-27 Season Game Log'!$C$5:$C$89,'2026-27 Season Game Log'!$G$5:$G$89,$A5)) -> 3
B6: =IF($A6="","",COUNTIFS('2026-27 Season Game Log'!$G$5:$G$89,$A6,'2026-27 Season Game Log'!$A$5:$A$89,"<>")) | C6: =IF($A6="","",COUNTIFS('2026-27 Season Game Log'!$G$5:$G$89,$A6,'2026-27 Season Game Log'!$A$5:$A$89,"W")) | D6: =IF($A6="","",COUNTIFS('2026-27 Season Game Log'!$G$5:$G$89,$A6,'2026-27 Season Game Log'!$A$5:$A$89,"L")) | E6: =IF($A6="","",COUNTIFS('2026-27 Season Game Log'!$G$5:$G$89,$A6,'2026-27 Season Game Log'!$A$5:$A$89,"OTL")) | F6: =IF($A6="","",SUMIFS('2026-27 Season Game Log'!$C$5:$C$89,'2026-27 Season Game Log'!$G$5:$G$89,$A6))
B7: =IF($A7="","",COUNTIFS('2026-27 Season Game Log'!$G$5:$G$89,$A7,'2026-27 Season Game Log'!$A$5:$A$89,"<>")) | C7: =IF($A7="","",COUNTIFS('2026-27 Season Game Log'!$G$5:$G$89,$A7,'2026-27 Season Game Log'!$A$5:$A$89,"W")) | D7: =IF($A7="","",COUNTIFS('2026-27 Season Game Log'!$G$5:$G$89,$A7,'2026-27 Season Game Log'!$A$5:$A$89,"L")) | E7: =IF($A7="","",COUNTIFS('2026-27 Season Game Log'!$G$5:$G$89,$A7,'2026-27 Season Game Log'!$A$5:$A$89,"OTL")) | F7: =IF($A7="","",SUMIFS('2026-27 Season Game Log'!$C$5:$C$89,'2026-27 Season Game Log'!$G$5:$G$89,$A7))
